BEGIN:VCALENDAR
VERSION:2.0
PRODID:-//TC Seppensen Nordheide e.V. - ECPv6.6.1//NONSGML v1.0//EN
CALSCALE:GREGORIAN
METHOD:PUBLISH
X-ORIGINAL-URL:https://tcsn-2025-updates.tc-sn.de
X-WR-CALDESC:Veranstaltungen für TC Seppensen Nordheide e.V.
REFRESH-INTERVAL;VALUE=DURATION:PT1H
X-Robots-Tag:noindex
X-PUBLISHED-TTL:PT1H
BEGIN:VTIMEZONE
TZID:Europe/Berlin
BEGIN:DAYLIGHT
TZOFFSETFROM:+0100
TZOFFSETTO:+0200
TZNAME:CEST
DTSTART:20250330T010000
END:DAYLIGHT
BEGIN:STANDARD
TZOFFSETFROM:+0200
TZOFFSETTO:+0100
TZNAME:CET
DTSTART:20251026T010000
END:STANDARD
END:VTIMEZONE
BEGIN:VEVENT
DTSTART;TZID=Europe/Berlin:20250429T180000
DTEND;TZID=Europe/Berlin:20250429T210000
DTSTAMP:20260426T030337
CREATED:20250418T092545Z
LAST-MODIFIED:20250426T144750Z
UID:5835-1745949600-1745960400@tcsn-2025-updates.tc-sn.de
SUMMARY:Saisonstart für Schnuppermitglieder aus 2024
DESCRIPTION:Siehe Einladung per E-Mail.
URL:https://tcsn-2025-updates.tc-sn.de/event/saisonstart-fuer-schnuppermitglieder-2024/
LOCATION:Tennisanlage TCSN\, Up de hoge Luft 13\, Buchholz (Holm-Seppensen)\, Niedersachsen\, 21244\, Deutschland
CATEGORIES:Mitgliederevent
ATTACH;FMTTYPE=image/png:https://tcsn-2025-updates.tc-sn.de/wp-content/uploads/2021/03/schnuppertennis_neu.png
END:VEVENT
END:VCALENDAR