BEGIN:VCALENDAR
VERSION:2.0
PRODID:-//TC Seppensen Nordheide e.V. - ECPv6.6.1//NONSGML v1.0//EN
CALSCALE:GREGORIAN
METHOD:PUBLISH
X-WR-CALNAME:TC Seppensen Nordheide e.V.
X-ORIGINAL-URL:https://tcsn-2025-updates.tc-sn.de
X-WR-CALDESC:Veranstaltungen für TC Seppensen Nordheide e.V.
REFRESH-INTERVAL;VALUE=DURATION:PT1H
X-Robots-Tag:noindex
X-PUBLISHED-TTL:PT1H
BEGIN:VTIMEZONE
TZID:Europe/Berlin
BEGIN:DAYLIGHT
TZOFFSETFROM:+0100
TZOFFSETTO:+0200
TZNAME:CEST
DTSTART:20250330T010000
END:DAYLIGHT
BEGIN:STANDARD
TZOFFSETFROM:+0200
TZOFFSETTO:+0100
TZNAME:CET
DTSTART:20251026T010000
END:STANDARD
END:VTIMEZONE
BEGIN:VEVENT
DTSTART;TZID=Europe/Berlin:20250531T110000
DTEND;TZID=Europe/Berlin:20250531T150000
DTSTAMP:20260426T010529
CREATED:20250401T094849Z
LAST-MODIFIED:20250402T123149Z
UID:5781-1748689200-1748703600@tcsn-2025-updates.tc-sn.de
SUMMARY:Kuddel-Muddel Turnier 2025
DESCRIPTION:Liebe Clubmitglieder\, \n\nam Samstag\, den 31. Mai 2025  findet wieder unser traditionelles Kuddel-Muddel Turnier statt.\n\nStart: 11 Uhr\nSpielmodus: 20 Minuten im klassischen Tiebreak System. Es wird aber nicht bis zu einer bestimmten Punktzahl gespielt\, sondern so lange bis die Zeit abgelaufen ist.\nSpielpaarungen: werden jeweils neu ausgelost.\nAußerdem: Je nach Teilnehmerzahl kann ein Einzel gespielt werden.\n\nGegen 15:00 soll das Ganze bei Bier und mitzubringendem Buffet ausklingen. \nMeldet Euch gerne über Anmeldebutton an. Spontan Entschlossene werden aber auch nicht weggeschickt.\n\nTurnierleiter Martin Otersen freut sich auf Euch!
URL:https://tcsn-2025-updates.tc-sn.de/event/kuddel-muddel-turnier-2025/
LOCATION:Tennisanlage TCSN\, Up de hoge Luft 13\, Buchholz (Holm-Seppensen)\, Niedersachsen\, 21244\, Deutschland
CATEGORIES:Mitgliederevent
ATTACH;FMTTYPE=image/jpeg:https://tcsn-2025-updates.tc-sn.de/wp-content/uploads/2025/04/Kuddel-Muddel-Turnier-Mai-2025-e1743596706577.jpg
END:VEVENT
END:VCALENDAR