BEGIN:VCALENDAR
VERSION:2.0
PRODID:-//TC Seppensen Nordheide e.V. - ECPv6.6.1//NONSGML v1.0//EN
CALSCALE:GREGORIAN
METHOD:PUBLISH
X-WR-CALNAME:TC Seppensen Nordheide e.V.
X-ORIGINAL-URL:https://tcsn-2025-updates.tc-sn.de
X-WR-CALDESC:Veranstaltungen für TC Seppensen Nordheide e.V.
REFRESH-INTERVAL;VALUE=DURATION:PT1H
X-Robots-Tag:noindex
X-PUBLISHED-TTL:PT1H
BEGIN:VTIMEZONE
TZID:Europe/Berlin
BEGIN:DAYLIGHT
TZOFFSETFROM:+0100
TZOFFSETTO:+0200
TZNAME:CEST
DTSTART:20250330T010000
END:DAYLIGHT
BEGIN:STANDARD
TZOFFSETFROM:+0200
TZOFFSETTO:+0100
TZNAME:CET
DTSTART:20251026T010000
END:STANDARD
END:VTIMEZONE
BEGIN:VEVENT
DTSTART;VALUE=DATE:20250803
DTEND;VALUE=DATE:20250804
DTSTAMP:20260425T192547
CREATED:20250711T090138Z
LAST-MODIFIED:20250711T100517Z
UID:6209-1754179200-1754265599@tcsn-2025-updates.tc-sn.de
SUMMARY:Öffentliches LK-Tagesturnier
DESCRIPTION:In den Sommerferien findet am 03. August 2025 auf unserer Anlage ein öffentliches LK-Turnier statt. Hierzu laden wir alle Turnierspieler der Region herzlich ein! \nDas Turnier umfasst die Altersklassen: \n\nHerren Einzel 30\nHerren Einzel 40\nHerren Einzel 50\nHerren Einzel 60\n\n👉 Zur Anmeldung geht es hier \nWichtige Termine: \n\nMeldebeginn: 02. Juni 2025\, 10:00 Uhr\nMeldeschluss: 30. Juli 2025\, 18:00 Uhr\nAuslosung: 30. Juli 2025\, 20:00 Uhr\n\nWir freuen uns auf spannende Matches und einen sportlichen Sommertag mit euch!
URL:https://tcsn-2025-updates.tc-sn.de/event/lk-tagesturnier/
LOCATION:Tennisanlage TCSN\, Up de hoge Luft 13\, Buchholz (Holm-Seppensen)\, Niedersachsen\, 21244\, Deutschland
CATEGORIES:Öffentliches Event
ATTACH;FMTTYPE=image/jpeg:https://tcsn-2025-updates.tc-sn.de/wp-content/uploads/2021/11/DSC_3551-scaled.jpg
END:VEVENT
BEGIN:VEVENT
DTSTART;TZID=Europe/Berlin:20250814T193000
DTEND;TZID=Europe/Berlin:20250814T203000
DTSTAMP:20260425T192547
CREATED:20250401T092939Z
LAST-MODIFIED:20250813T061913Z
UID:5795-1755199800-1755203400@tcsn-2025-updates.tc-sn.de
SUMMARY:8. Schnuppertraining Erwachsene 2025
DESCRIPTION:Liebe Tennisfans\, \nihr habt länger nicht gespielt und habt Lust wieder einzusteigen? Ihr seid Anfänger und wollt gerne den Tennissport für Euch ausprobieren? Ihr seid neu und sucht Anschluss in einem Tennisverein? \nDann zögert nicht lange und werdet Schnuppermitglied im Tennisclub Seppensen-Nordheide! Zum Einstieg in das Vereinsleben bieten wir allen Schnuppermitgliedern die Möglichkeit an\, beim kostenlosen Schnuppertraining unter der Leitung unserer Vereinstrainer Michael Wendt und Johanna Knüwe mitzumachen. \n\nPro Trainingseinheit stehen für 20 Schnuppermitglieder Trainingsplätze in den Gruppen zur Verfügung.\nEine Anmeldung über die Homepage ist bis zum vorherigen Dienstag 20 Uhr für jeden einzelnen Schnupperabend notwendig. Die Termine zur Anmeldung werden sukzessive auf der Homepage eingestellt.\nDas Training findet von 19:30-20:30 Uhr\, voraussichtlich auf den Plätzen 6 und 7 statt.\nBälle und bei Bedarf Leihschläger sind vorhanden.\nNutzt unsere kostenlosen Schnuppereinheiten in netter Atmosphäre und lernt gleichzeitig viele Neumitglieder kennen.\n\nMeldet Euch bitte über die Homepage an und bringt zum ersten Training Euren Aufnahmeantrag für die Schnuppermitgliedschaft mit. \nWochentag: Donnerstag \nUhrzeit: 19:30-20:30 Uhr \nVoraussichtliche Termine: \n\n08. Mai\n15. Mai (gemeinsames „Turnierevent“ mit den Schnuppermitgliedern aus 2024)\n22. Mai\n05. Juni\n12. Juni\n19. Juni\n26. Juni\n14. August\n21. August\n28. August (gemeinsames „Turnierevent“ mit den Schnuppermitgliedern aus 2024)\n04. September\n11. September\n\nWährend der niedersächsischen Schulferien und an Brücken- sowie Feiertagen findet kein Training statt. Bitte beachtet\, dass es sich bei dem Angebot um eine freiwillige Leistung des Vereins handelt\, auf die grundsätzlich kein Anspruch besteht.
URL:https://tcsn-2025-updates.tc-sn.de/event/8-schnuppertraining-erwachsene-2025/
LOCATION:Tennisanlage TCSN\, Up de hoge Luft 13\, Buchholz (Holm-Seppensen)\, Niedersachsen\, 21244\, Deutschland
CATEGORIES:Mitgliederevent
ATTACH;FMTTYPE=image/png:https://tcsn-2025-updates.tc-sn.de/wp-content/uploads/2021/03/schnuppertennis_neu.png
END:VEVENT
BEGIN:VEVENT
DTSTART;TZID=Europe/Berlin:20250821T193000
DTEND;TZID=Europe/Berlin:20250821T203000
DTSTAMP:20260425T192547
CREATED:20250401T093102Z
LAST-MODIFIED:20250819T120814Z
UID:5797-1755804600-1755808200@tcsn-2025-updates.tc-sn.de
SUMMARY:9. Schnuppertraining Erwachsene 2025
DESCRIPTION:Liebe Tennisfans\, \nihr habt länger nicht gespielt und habt Lust wieder einzusteigen? Ihr seid Anfänger und wollt gerne den Tennissport für Euch ausprobieren? Ihr seid neu und sucht Anschluss in einem Tennisverein? \nDann zögert nicht lange und werdet Schnuppermitglied im Tennisclub Seppensen-Nordheide! Zum Einstieg in das Vereinsleben bieten wir allen Schnuppermitgliedern die Möglichkeit an\, beim kostenlosen Schnuppertraining unter der Leitung unserer Vereinstrainer Michael Wendt und Johanna Knüwe mitzumachen. \n\nPro Trainingseinheit stehen für 20 Schnuppermitglieder Trainingsplätze in den Gruppen zur Verfügung.\nEine Anmeldung über die Homepage ist bis zum vorherigen Dienstag 20 Uhr für jeden einzelnen Schnupperabend notwendig. Die Termine zur Anmeldung werden sukzessive auf der Homepage eingestellt.\nDas Training findet von 19:30-20:30 Uhr\, voraussichtlich auf den Plätzen 6 und 7 statt.\nBälle und bei Bedarf Leihschläger sind vorhanden.\nNutzt unsere kostenlosen Schnuppereinheiten in netter Atmosphäre und lernt gleichzeitig viele Neumitglieder kennen.\n\nMeldet Euch bitte über die Homepage an und bringt zum ersten Training Euren Aufnahmeantrag für die Schnuppermitgliedschaft mit. \nWochentag: Donnerstag \nUhrzeit: 19:30-20:30 Uhr \nVoraussichtliche Termine: \n\n08. Mai\n15. Mai (gemeinsames „Turnierevent“ mit den Schnuppermitgliedern aus 2024)\n22. Mai\n05. Juni\n12. Juni\n19. Juni\n26. Juni\n14. August\n21. August\n28. August (gemeinsames „Turnierevent“ mit den Schnuppermitgliedern aus 2024)\n04. September\n11. September\n\nWährend der niedersächsischen Schulferien und an Brücken- sowie Feiertagen findet kein Training statt. Bitte beachtet\, dass es sich bei dem Angebot um eine freiwillige Leistung des Vereins handelt\, auf die grundsätzlich kein Anspruch besteht.
URL:https://tcsn-2025-updates.tc-sn.de/event/9-schnuppertraining-erwachsene-2025/
LOCATION:Tennisanlage TCSN\, Up de hoge Luft 13\, Buchholz (Holm-Seppensen)\, Niedersachsen\, 21244\, Deutschland
CATEGORIES:Mitgliederevent
ATTACH;FMTTYPE=image/png:https://tcsn-2025-updates.tc-sn.de/wp-content/uploads/2021/03/schnuppertennis_neu.png
END:VEVENT
BEGIN:VEVENT
DTSTART;TZID=Europe/Berlin:20250823T093000
DTEND;TZID=Europe/Berlin:20250824T180000
DTSTAMP:20260425T192547
CREATED:20250711T091512Z
LAST-MODIFIED:20250812T062911Z
UID:6217-1755941400-1756058400@tcsn-2025-updates.tc-sn.de
SUMMARY:Clubmeisterschaften 2025
DESCRIPTION:🎾 Doppel-Konkurrenzen im Fokus\nDie diesjährigen Clubmeisterschaften finden ausschließlich in den Doppel-Disziplinen für Damen und Herren statt. \n❤️ Mixed-Paarungen möglich\nGerne können auch Mixed-Teams gemeldet werden. Bitte beachtet: Bei Teilnahme im Mixed entfällt die zusätzliche Teilnahme an einer Herren/Damen Doppel-Konkurrenz. \n📊 Einteilung nach Spielstärke oder Alter\nFür faire und ausgeglichene Spiele erfolgt die Einteilung der Teams nach Spielstärke oder Altersklassen. Die Turnierleitung wird die Gruppeneinteilung entsprechend festlegen: \nFür weitere Infos und Anmeldung siehe Newsletter vom 25.07.2025. \nOnline Anmeldung: MyBigPoint ID 736418
URL:https://tcsn-2025-updates.tc-sn.de/event/clubmeisterschaften-2025/
LOCATION:Tennisanlage TCSN\, Up de hoge Luft 13\, Buchholz (Holm-Seppensen)\, Niedersachsen\, 21244\, Deutschland
CATEGORIES:Mitgliederevent
ATTACH;FMTTYPE=image/png:https://tcsn-2025-updates.tc-sn.de/wp-content/uploads/2025/07/Clubmeisterschaften-TCSN-2025-2.png
END:VEVENT
BEGIN:VEVENT
DTSTART;TZID=Europe/Berlin:20250828T193000
DTEND;TZID=Europe/Berlin:20250828T210000
DTSTAMP:20260425T192547
CREATED:20250401T094434Z
LAST-MODIFIED:20250627T073508Z
UID:5799-1756409400-1756414800@tcsn-2025-updates.tc-sn.de
SUMMARY:Turnierevent für erwachsene Schnuppermitglieder 2024 und 2025
DESCRIPTION:Liebe Schnuppermitglieder\, \nam Donnerstag Abend\, den 28. August 2025 möchten wir Euch gerne zu einem kleinen Turnierevent einladen. \nStart und Treffpunkt ist um 19:30 Uhr vor dem Clubhaus. \nDie Einladung richtet sich an alle neuen Schnuppermitglieder\, aber auch an unsere zahlreichen Schnuppermitglieder des Vorjahres\, da wir Euch gerne im Rahmen der geselligen Veranstaltung Bekannt machen und einmal zusammenführen wollen. \nFolgende Eckdaten: \n\nSpaß steht im Vordergrund\nDas Turnier dient auch dem Kennenlernen\nSpielformat in Abhängigkeit der Teilnehmerzahlen\nZeitliche Befristung pro Spiel\nDamen- und Herren spielen gemischt\nKurze Informationsveranstaltung vom Vorstand und Beantwortung von Fragen\n\nBitte meldet Euch über den Anmeldebutton an\, spätestens bis zum vorherigen Dienstag 20 Uhr. \nDieses Event ersetzt das 10. Schnuppertraining! \nWir freuen uns auf Euch! \nEuer Team vom TCSN
URL:https://tcsn-2025-updates.tc-sn.de/event/turnierevent-fuer-erwachsene-schnuppermitglieder-2024-und-2025/
LOCATION:Tennisanlage TCSN\, Up de hoge Luft 13\, Buchholz (Holm-Seppensen)\, Niedersachsen\, 21244\, Deutschland
CATEGORIES:Mitgliederevent
ATTACH;FMTTYPE=image/png:https://tcsn-2025-updates.tc-sn.de/wp-content/uploads/2021/03/schnuppertennis_neu.png
END:VEVENT
BEGIN:VEVENT
DTSTART;TZID=Europe/Berlin:20250830T090000
DTEND;TZID=Europe/Berlin:20250831T180000
DTSTAMP:20260425T192547
CREATED:20250812T084839Z
LAST-MODIFIED:20250814T134043Z
UID:6253-1756544400-1756663200@tcsn-2025-updates.tc-sn.de
SUMMARY:Clubmeisterschaften der Jugend 2025
DESCRIPTION:Am 30. und 31. August 2025 finden unsere beliebten Clubmeisterschaften für die Jugend statt. In diesem Jahr erwarten euch neben spannenden Einzelkonkurrenzen auch gleich vier Doppelkonkurrenzen. \nGespielt wird in den Altersklassen: \n\nU12 (m/w) – Jugendliche bis einschließlich 12 Jahre\nU18 (m/w) – Jugendliche bis einschließlich 18 Jahre\n\nAnmeldung\nDie Anmeldung ist bereits geöffnet. Wer mit dem mybigpoint-System vertraut ist\, kann sich bequem direkt dort anmelden. \nAlle anderen Anmeldungen und Rückfragen nehmen wir per E-Mail an jugendpunktspiele@tc-sn.de entgegen. \nBitte gebt bei einer Anmeldung per E-Mail folgende Daten an: \n\nName und Geburtsdatum\nTeilnahme Einzel: ja/nein\nTeilnahme Doppel: ja/nein\nName der Doppelpartnerin / des Doppelpartners\n\nEine Kombination aus Einzel- und Doppelteilnahme ist selbstverständlich möglich. \nFür weitere Infos siehe Newsletter vom 12.08.2025.
URL:https://tcsn-2025-updates.tc-sn.de/event/clubmeisterschaften-jugend-2025/
LOCATION:Tennisanlage TCSN\, Up de hoge Luft 13\, Buchholz (Holm-Seppensen)\, Niedersachsen\, 21244\, Deutschland
CATEGORIES:Mitgliederevent
ATTACH;FMTTYPE=image/png:https://tcsn-2025-updates.tc-sn.de/wp-content/uploads/2025/08/Clubmeisterschaften-Jugend-2025.png
END:VEVENT
END:VCALENDAR