BEGIN:VCALENDAR
VERSION:2.0
PRODID:-//TC Seppensen Nordheide e.V. - ECPv6.6.1//NONSGML v1.0//EN
CALSCALE:GREGORIAN
METHOD:PUBLISH
X-WR-CALNAME:TC Seppensen Nordheide e.V.
X-ORIGINAL-URL:https://tcsn-2025-updates.tc-sn.de
X-WR-CALDESC:Veranstaltungen für TC Seppensen Nordheide e.V.
REFRESH-INTERVAL;VALUE=DURATION:PT1H
X-Robots-Tag:noindex
X-PUBLISHED-TTL:PT1H
BEGIN:VTIMEZONE
TZID:Europe/Berlin
BEGIN:DAYLIGHT
TZOFFSETFROM:+0100
TZOFFSETTO:+0200
TZNAME:CEST
DTSTART:20250330T010000
END:DAYLIGHT
BEGIN:STANDARD
TZOFFSETFROM:+0200
TZOFFSETTO:+0100
TZNAME:CET
DTSTART:20251026T010000
END:STANDARD
END:VTIMEZONE
BEGIN:VEVENT
DTSTART;TZID=Europe/Berlin:20250904T193000
DTEND;TZID=Europe/Berlin:20250904T203000
DTSTAMP:20260425T175316
CREATED:20250401T094548Z
LAST-MODIFIED:20250601T195738Z
UID:5801-1757014200-1757017800@tcsn-2025-updates.tc-sn.de
SUMMARY:11. Schnuppertraining Erwachsene 2025
DESCRIPTION:Termin ist noch nicht zur Anmeldung freigegeben! \nLiebe Tennisfans\, \nihr habt länger nicht gespielt und habt Lust wieder einzusteigen? Ihr seid Anfänger und wollt gerne den Tennissport für Euch ausprobieren? Ihr seid neu und sucht Anschluss in einem Tennisverein? \nDann zögert nicht lange und werdet Schnuppermitglied im Tennisclub Seppensen-Nordheide! Zum Einstieg in das Vereinsleben bieten wir allen Schnuppermitgliedern die Möglichkeit an\, beim kostenlosen Schnuppertraining unter der Leitung unserer Vereinstrainer Michael Wendt und Johanna Knüwe mitzumachen. \n\nPro Trainingseinheit stehen für 20 Schnuppermitglieder Trainingsplätze in den Gruppen zur Verfügung.\nEine Anmeldung über die Homepage ist bis zum vorherigen Dienstag 20 Uhr für jeden einzelnen Schnupperabend notwendig. Die Termine zur Anmeldung werden sukzessive auf der Homepage eingestellt.\nDas Training findet von 19:30-20:30 Uhr\, voraussichtlich auf den Plätzen 6 und 7 statt.\nBälle und bei Bedarf Leihschläger sind vorhanden.\nNutzt unsere kostenlosen Schnuppereinheiten in netter Atmosphäre und lernt gleichzeitig viele Neumitglieder kennen.\n\nMeldet Euch bitte über die Homepage an und bringt zum ersten Training Euren Aufnahmeantrag für die Schnuppermitgliedschaft mit. \nWochentag: Donnerstag \nUhrzeit: 19:30-20:30 Uhr \nVoraussichtliche Termine: \n\n08. Mai\n15. Mai (gemeinsames „Turnierevent“ mit den Schnuppermitgliedern aus 2024)\n22. Mai\n05. Juni\n12. Juni\n19. Juni\n26. Juni\n14. August\n21. August\n28. August (gemeinsames „Turnierevent“ mit den Schnuppermitgliedern aus 2024)\n04. September\n11. September\n\nWährend der niedersächsischen Schulferien und an Brücken- sowie Feiertagen findet kein Training statt. Bitte beachtet\, dass es sich bei dem Angebot um eine freiwillige Leistung des Vereins handelt\, auf die grundsätzlich kein Anspruch besteht.
URL:https://tcsn-2025-updates.tc-sn.de/event/11-schnuppertraining-erwachsene-2025/
LOCATION:Tennisanlage TCSN\, Up de hoge Luft 13\, Buchholz (Holm-Seppensen)\, Niedersachsen\, 21244\, Deutschland
CATEGORIES:Mitgliederevent
ATTACH;FMTTYPE=image/png:https://tcsn-2025-updates.tc-sn.de/wp-content/uploads/2021/03/schnuppertennis_neu.png
END:VEVENT
BEGIN:VEVENT
DTSTART;TZID=Europe/Berlin:20250911T193000
DTEND;TZID=Europe/Berlin:20250911T203000
DTSTAMP:20260425T175316
CREATED:20250401T094751Z
LAST-MODIFIED:20250601T195743Z
UID:5803-1757619000-1757622600@tcsn-2025-updates.tc-sn.de
SUMMARY:12. Schnuppertraining Erwachsene 2025
DESCRIPTION:Termin ist noch nicht zur Anmeldung freigegeben! \nLiebe Tennisfans\, \nihr habt länger nicht gespielt und habt Lust wieder einzusteigen? Ihr seid Anfänger und wollt gerne den Tennissport für Euch ausprobieren? Ihr seid neu und sucht Anschluss in einem Tennisverein? \nDann zögert nicht lange und werdet Schnuppermitglied im Tennisclub Seppensen-Nordheide! Zum Einstieg in das Vereinsleben bieten wir allen Schnuppermitgliedern die Möglichkeit an\, beim kostenlosen Schnuppertraining unter der Leitung unserer Vereinstrainer Michael Wendt und Johanna Knüwe mitzumachen. \n\nPro Trainingseinheit stehen für 20 Schnuppermitglieder Trainingsplätze in den Gruppen zur Verfügung.\nEine Anmeldung über die Homepage ist bis zum vorherigen Dienstag 20 Uhr für jeden einzelnen Schnupperabend notwendig. Die Termine zur Anmeldung werden sukzessive auf der Homepage eingestellt.\nDas Training findet von 19:30-20:30 Uhr\, voraussichtlich auf den Plätzen 6 und 7 statt.\nBälle und bei Bedarf Leihschläger sind vorhanden.\nNutzt unsere kostenlosen Schnuppereinheiten in netter Atmosphäre und lernt gleichzeitig viele Neumitglieder kennen.\n\nMeldet Euch bitte über die Homepage an und bringt zum ersten Training Euren Aufnahmeantrag für die Schnuppermitgliedschaft mit. \nWochentag: Donnerstag \nUhrzeit: 19:30-20:30 Uhr \nVoraussichtliche Termine: \n\n08. Mai\n15. Mai (gemeinsames „Turnierevent“ mit den Schnuppermitgliedern aus 2024)\n22. Mai\n05. Juni\n12. Juni\n19. Juni\n26. Juni\n14. August\n21. August\n28. August (gemeinsames „Turnierevent“ mit den Schnuppermitgliedern aus 2024)\n04. September\n11. September\n\nWährend der niedersächsischen Schulferien und an Brücken- sowie Feiertagen findet kein Training statt. Bitte beachtet\, dass es sich bei dem Angebot um eine freiwillige Leistung des Vereins handelt\, auf die grundsätzlich kein Anspruch besteht.
URL:https://tcsn-2025-updates.tc-sn.de/event/12-schnuppertraining-erwachsene-2025/
LOCATION:Tennisanlage TCSN\, Up de hoge Luft 13\, Buchholz (Holm-Seppensen)\, Niedersachsen\, 21244\, Deutschland
CATEGORIES:Mitgliederevent
ATTACH;FMTTYPE=image/png:https://tcsn-2025-updates.tc-sn.de/wp-content/uploads/2021/03/schnuppertennis_neu.png
END:VEVENT
BEGIN:VEVENT
DTSTART;VALUE=DATE:20250926
DTEND;VALUE=DATE:20250929
DTSTAMP:20260425T175316
CREATED:20250210T124535Z
LAST-MODIFIED:20250424T084407Z
UID:5723-1758844800-1759103999@tcsn-2025-updates.tc-sn.de
SUMMARY:16. Buchholzer Herbst Turnier 2025
DESCRIPTION:Liebe Tennisfreunde\, \nam Wochenende 26. bis 28. September 2025 findet die sechzehnte Auflage unseres Buchholzer Herbst Turniers statt. Wie immer geht es um DTB-Ranglistenpunkte\, LK Punkte und einfach tolle Tennisspiele in netter Atmosphäre. \nDas Turnier richtet sich an die Altersklassen in den Konkurrenzen: \n\nHerren 30\nHerren 40\nHerren 50\nHerren 60\nDamen 30\nDamen 40\nDamen 50\n\nAnmeldungen können wie immer rechtzeitig vorher über das Spielsystem vorgenommen werden. \n 
URL:https://tcsn-2025-updates.tc-sn.de/event/16-buchholzer-herbst-turnier-2025/
LOCATION:Tennisanlage TCSN\, Up de hoge Luft 13\, Buchholz (Holm-Seppensen)\, Niedersachsen\, 21244\, Deutschland
CATEGORIES:Öffentliches Event
END:VEVENT
BEGIN:VEVENT
DTSTART;VALUE=DATE:20250928
DTEND;VALUE=DATE:20250929
DTSTAMP:20260425T175316
CREATED:20250711T090718Z
LAST-MODIFIED:20250711T090718Z
UID:6215-1759017600-1759103999@tcsn-2025-updates.tc-sn.de
SUMMARY:LK-Tagesturnier
DESCRIPTION:Am 28. September findet auf unserer Anlage ein öffentliches LK-Turnier statt\, zu dem alle Turnierspieler der Region herzlich eingeladen sind! \nWeitere Infos folgen zeitnah.
URL:https://tcsn-2025-updates.tc-sn.de/event/lk-tagesturnier-2/
LOCATION:Tennisanlage TCSN\, Up de hoge Luft 13\, Buchholz (Holm-Seppensen)\, Niedersachsen\, 21244\, Deutschland
CATEGORIES:Öffentliches Event
ATTACH;FMTTYPE=image/jpeg:https://tcsn-2025-updates.tc-sn.de/wp-content/uploads/2021/11/DSC_3551-scaled.jpg
END:VEVENT
END:VCALENDAR